BEGIN:VCALENDAR
VERSION:2.0
PRODID:-//Cress Mayotte - ECPv4.6.21//NONSGML v1.0//EN
CALSCALE:GREGORIAN
METHOD:PUBLISH
X-WR-CALNAME:Cress Mayotte
X-ORIGINAL-URL:http://www.cress-mayotte.org
X-WR-CALDESC:Events for Cress Mayotte
BEGIN:VEVENT
DTSTART;TZID=Indian/Mayotte:20180505T190000
DTEND;TZID=Indian/Mayotte:20180505T233000
DTSTAMP:20260423T205959
CREATED:20190503T121822Z
LAST-MODIFIED:20190503T121822Z
UID:2059-1525546800-1525563000@www.cress-mayotte.org
SUMMARY:Trophées Mahorais de l'Entreprise - Prix ESS
DESCRIPTION:
URL:http://www.cress-mayotte.org/agenda/trophees-mahorais-de-lentreprise-prix-ess/
END:VEVENT
END:VCALENDAR