BEGIN:VCALENDAR
VERSION:2.0
PRODID:-//Cress Mayotte - ECPv4.6.21//NONSGML v1.0//EN
CALSCALE:GREGORIAN
METHOD:PUBLISH
X-WR-CALNAME:Cress Mayotte
X-ORIGINAL-URL:http://www.cress-mayotte.org
X-WR-CALDESC:Events for Cress Mayotte
BEGIN:VEVENT
DTSTART;TZID=Indian/Mayotte:20180512T080000
DTEND;TZID=Indian/Mayotte:20180527T170000
DTSTAMP:20260423T193411
CREATED:20180410T094423Z
LAST-MODIFIED:20180416T074055Z
UID:964-1526112000-1527440400@www.cress-mayotte.org
SUMMARY:Quinzaine du commerce équitable - A vous de représenter Mayotte !
DESCRIPTION:ONGs\, associations\, mouvements d’éducation populaire\, labels de commerce équitable\, réseaux de distributions et entreprises engagées… Découvrez les acteurs qui œuvrent au quotidien pour un mondeplus juste et respectueux des Hommes et de la planète ! \nLa Quinzaine du Commerce Équitable aura lieu du 12 au 27 Mai prochain.  Le thème pour cette 18ième édition est celui de l’égalité femmes-hommes. \nUne carte interactive de France de tous les événements organisés durant cette période est disponible sur le site  \nhttp://www.mouvement-equitable.org/ \n  \nAjoutez-y votre événement et soyez les premiers à Mayotte ! \nQue vous soyez producteurs\, élus\, citoyens\, militant\, sur le site vous pouvez ajouter votre portrait en tant qu’acteur de l’Economie Sociale et Solidaire intégrant le mouvement équitable. \n…………………………………………………………………………. \n« Le Commerce Equitable est un partenariat commercial fondé sur le dialogue\, la transparence et le respect\, dont l’objectif est de parvenir à une plus grande équité dans le commerce mondial. Il contribue au développement durable en offrant de meilleures conditions commerciales et en garantissant les droits des producteurs et des travailleurs marginalisés\, tout particulièrement au Sud de la planète. Les organisations du Commerce Equitable (soutenues par les consommateurs) s’engagent activement àsoutenir les producteurs\, à sensibiliser l’opinion et à mener campagne en faveur des changements dans les règles et les pratiques du commerce international conventionnel« . Fairtrade International\, WFTO et EFTA \n  \n  \n  \n  \n  \n  \n
URL:http://www.cress-mayotte.org/agenda/quinzaine-du-commerce-equitable-a-vous-de-representer-mayotte/
ATTACH;FMTTYPE=image/png:http://www.cress-mayotte.org/wp-content/uploads/Capture-d’écran-2018-04-10-à-13.46.10.png
END:VEVENT
END:VCALENDAR