BEGIN:VCALENDAR
VERSION:2.0
PRODID:-//Cress Mayotte - ECPv4.6.21//NONSGML v1.0//EN
CALSCALE:GREGORIAN
METHOD:PUBLISH
X-WR-CALNAME:Cress Mayotte
X-ORIGINAL-URL:http://www.cress-mayotte.org
X-WR-CALDESC:Events for Cress Mayotte
BEGIN:VEVENT
DTSTART;TZID=Indian/Mayotte:20180518T080000
DTEND;TZID=Indian/Mayotte:20180518T170000
DTSTAMP:20260423T180409
CREATED:20180518T114826Z
LAST-MODIFIED:20180518T120802Z
UID:1165-1526630400-1526662800@www.cress-mayotte.org
SUMMARY:Du 5 au 26 mai - Exposition artisanale "Made in Mayotte"
DESCRIPTION:3ème édition depuis 2017 que cette exposition réunit des artisans de Mayotte. Cette fois-ci ce sont 15 artisans de toute l’île qui exposent leur savoir faire. \n \n  \n  \n  \n  \n \n \n
URL:http://www.cress-mayotte.org/agenda/du-5-au-26-mai-exposition-artisanale-made-in-mayotte/
LOCATION:Front de mer\, Mamoudzou\, 97600\, Mayotte
ATTACH;FMTTYPE=image/png:http://www.cress-mayotte.org/wp-content/uploads/Capture-d’écran-2018-05-18-à-15.07.27.png
ORGANIZER;CN="Comit%C3%A9%20du%20tourisme":MAILTO:contact@mayotte-tourisme.com
END:VEVENT
END:VCALENDAR